BEGIN:VCALENDAR
PRODID:-//eluceo/ical//2.0/EN
VERSION:2.0
CALSCALE:GREGORIAN
BEGIN:VEVENT
UID:event-482
DTSTAMP:20260421T221510Z
SUMMARY:Dies: To the Gamehall with Njoenngg
DESCRIPTION:On the 11th of December we will go the gamehall and do 4 diffe
 rent activities for only €15\,-! It will be from 19.00h till 22.00h. 
DTSTART:20191211T180000Z
DTEND:20191211T210000Z
LOCATION:Uithof Den Haag
END:VEVENT
BEGIN:VTIMEZONE
TZID:UTC
BEGIN:STANDARD
DTSTART:20191211T180000
TZNAME:UTC
TZOFFSETTO:+0000
TZOFFSETFROM:+0000
END:STANDARD
END:VTIMEZONE
END:VCALENDAR
