BEGIN:VCALENDAR
PRODID:-//eluceo/ical//2.0/EN
VERSION:2.0
CALSCALE:GREGORIAN
BEGIN:VEVENT
UID:event-1380
DTSTAMP:20260421T085040Z
SUMMARY:Lunch Lecture VoltH2
DESCRIPTION:On Tuesday the 10th of March\, we will host a lunch lecture giv
 en by VoltH2. VoltH2 aims  to contribute to the reduction of CO₂ emissi
 ons by producing green hydrogen at various locations in Europe. They are c
 urrently working hard to develop four green hydrogen plants in the Netherl
 ands (Vlissingen\, Terneuzen and Delfzijl) and Germany (Gelsenkirchen). To
 gether\, they will have a future production capacity of almost 200 MW. The
 y are building their plants in industrial areas and ports\, where there ar
 e sufficient customers for both green hydrogen and the by-products oxygen 
 and heat. To produce their green hydrogen\, they use electrolysis to conve
 rt demineralised water from electricity into hydrogen. Thanks to the use o
 f wind and solar energy\, their hydrogen is 100% CO₂-neutral.
DTSTART:20260310T114500Z
DTEND:20260310T124500Z
LOCATION:Beijerinck/ Korvezee Hall
END:VEVENT
BEGIN:VTIMEZONE
TZID:UTC
BEGIN:STANDARD
DTSTART:20260310T114500
TZNAME:UTC
TZOFFSETTO:+0000
TZOFFSETFROM:+0000
END:STANDARD
END:VTIMEZONE
END:VCALENDAR
