BEGIN:VCALENDAR
PRODID:-//eluceo/ical//2.0/EN
VERSION:2.0
CALSCALE:GREGORIAN
BEGIN:VEVENT
UID:event-1368
DTSTAMP:20260421T084529Z
SUMMARY:TiGer Weekend
DESCRIPTION:Hello Tigers\, you’ve all been eagerly waiting for this\, but
  it’s that time of the year again\, you can now sign up for the Tigerwee
 kend! This year\, from 13-15 March\, we will be heading to Leuven in Belgi
 um! For the low low price of 100 euros you will get an overnight stay\, a 
 mystery activity and (most importantly) some beers on the side. Alongside 
 this\, we will also be organising some great evening activities. There are
  only 20 spots and sign up will close 31st January. So be quick and sign 
 up now! With a loud Raaaaawrrr\, The TigerCie
DTSTART:20260313T152714Z
DTEND:20260315T112814Z
END:VEVENT
BEGIN:VTIMEZONE
TZID:UTC
BEGIN:STANDARD
DTSTART:20260313T152714
TZNAME:UTC
TZOFFSETTO:+0000
TZOFFSETFROM:+0000
END:STANDARD
END:VTIMEZONE
END:VCALENDAR
