BEGIN:VCALENDAR
PRODID:-//eluceo/ical//2.0/EN
VERSION:2.0
CALSCALE:GREGORIAN
BEGIN:VEVENT
UID:event-1145
DTSTAMP:20260422T123110Z
SUMMARY:Excursion Gunvor Energies
DESCRIPTION:Dear TG’er\, On the 23th of May we are organizing an excursio
 n to Gunvor Energies is Europoort\, Rotterdam. The energy transition. At G
 unvor Energy Rotterdam\, we're excited about it. We are a traditional refi
 nery and terminal with 60 years of experience in the Port of Rotterdam. Bu
 t we have ambitious plans for a sustainable future. Over the next few year
 s\, we will be initiating new processes\, gradually phasing out fossil fue
 ls and introducing clean\, CO2-neutral energy sources. This is the program
  of the excursion: 10:45 Gathering at TNW Zuid 11.00 Departure TNW Zuid 11
 .30/11.45  Arrival at Gunvor Energies 11.45 – 12.30 Presentation 12.30 
 – 13.00 Lunch 13.00 – 14.00 Plant tour 14.00 – 16.00 Small case exer
 cise 16.00 Departure to Delft NOTE: If you are registered\, but you cancel
  after Thurday 9th 12:00 you will be fined a cancellation fee of  €5\,-
 .  If you do not show up without a valid reason you will be fined a no-sh
 ow fee of €10\,-.
DTSTART:20240523T084500Z
DTEND:20240523T140000Z
END:VEVENT
BEGIN:VTIMEZONE
TZID:UTC
BEGIN:STANDARD
DTSTART:20240523T084500
TZNAME:UTC
TZOFFSETTO:+0000
TZOFFSETFROM:+0000
END:STANDARD
END:VTIMEZONE
END:VCALENDAR
